BEGIN:VCALENDAR
VERSION:2.0
PRODID:-//o5o.nl//Events//NL
BEGIN:VTIMEZONE
TZID:Europe/Amsterdam
BEGIN:STANDARD
DTSTART:19701025T030000
RRULE:FREQ=YEARLY;BYMONTH=10;BYDAY=-1SU
TZOFFSETFROM:+0200
TZOFFSETTO:+0100
TZNAME:CET
END:STANDARD
BEGIN:DAYLIGHT
DTSTART:19700329T020000
RRULE:FREQ=YEARLY;BYMONTH=3;BYDAY=-1SU
TZOFFSETFROM:+0100
TZOFFSETTO:+0200
TZNAME:CEST
END:DAYLIGHT
END:VTIMEZONE
BEGIN:VEVENT
UID:48850@o5o.nl
DTSTAMP:20260419T121650Z
DTSTART;TZID=Europe/Amsterdam:20260502T200000
DTEND;TZID=Europe/Amsterdam:20260502T220000
SUMMARY:GlydersUSA+ STRANGE LOTUSA
DESCRIPTION:Mainstage | Ticket: €15\,- | doors: 20:00 - 22:15 | start: 20
 :45
LOCATION:Vera\, Oosterstraat 44\, Groningen
URL:https://www.vera-groningen.nl/?post_type=events&p=148542&lang=en
END:VEVENT
END:VCALENDAR
