BEGIN:VCALENDAR
VERSION:2.0
PRODID:-//o5o.nl//Events//NL
BEGIN:VTIMEZONE
TZID:Europe/Amsterdam
BEGIN:STANDARD
DTSTART:19701025T030000
RRULE:FREQ=YEARLY;BYMONTH=10;BYDAY=-1SU
TZOFFSETFROM:+0200
TZOFFSETTO:+0100
TZNAME:CET
END:STANDARD
BEGIN:DAYLIGHT
DTSTART:19700329T020000
RRULE:FREQ=YEARLY;BYMONTH=3;BYDAY=-1SU
TZOFFSETFROM:+0100
TZOFFSETTO:+0200
TZNAME:CEST
END:DAYLIGHT
END:VTIMEZONE
BEGIN:VEVENT
UID:49830@o5o.nl
DTSTAMP:20260419T121452Z
DTSTART;TZID=Europe/Amsterdam:20260422T184000
DTEND;TZID=Europe/Amsterdam:20260422T204000
SUMMARY:Wolf Children (4K Restoration)
DESCRIPTION:Film\, Animatie\, Drama
Tijd: 18:40 - 20:47
English subtitles
LOCATION:Forum Groningen\, Nieuwe Markt 1\, Groningen
URL:https://forum.nl/nl/agenda/film/wolf-children-4k-restoration?date=22-04-2026
END:VEVENT
END:VCALENDAR
