BEGIN:VCALENDAR
VERSION:2.0
PRODID:-//o5o.nl//Events//NL
BEGIN:VTIMEZONE
TZID:Europe/Amsterdam
BEGIN:STANDARD
DTSTART:19701025T030000
RRULE:FREQ=YEARLY;BYMONTH=10;BYDAY=-1SU
TZOFFSETFROM:+0200
TZOFFSETTO:+0100
TZNAME:CET
END:STANDARD
BEGIN:DAYLIGHT
DTSTART:19700329T020000
RRULE:FREQ=YEARLY;BYMONTH=3;BYDAY=-1SU
TZOFFSETFROM:+0100
TZOFFSETTO:+0200
TZNAME:CEST
END:DAYLIGHT
END:VTIMEZONE
BEGIN:VEVENT
UID:50645@o5o.nl
DTSTAMP:20260419T121738Z
DTSTART;TZID=Europe/Amsterdam:20260419T200000
DTEND;TZID=Europe/Amsterdam:20260419T230000
SUMMARY:NOVO's Sunday met Muireann McDonnel en Saurav Shrestha
DESCRIPTION:zondag 19 april
                                    \, Haren
LOCATION:Groningen\, Rijksstraatweg 143\, Haren
URL:https://www.visitgroningen.nl/nl/doen/uitgaan/326554967/novo-s-sunday-met-muireann-mcdonnel-en-saurav-shrestha
END:VEVENT
END:VCALENDAR
