BEGIN:VCALENDAR
VERSION:2.0
PRODID:-//o5o.nl//Events//NL
BEGIN:VTIMEZONE
TZID:Europe/Amsterdam
BEGIN:STANDARD
DTSTART:19701025T030000
RRULE:FREQ=YEARLY;BYMONTH=10;BYDAY=-1SU
TZOFFSETFROM:+0200
TZOFFSETTO:+0100
TZNAME:CET
END:STANDARD
BEGIN:DAYLIGHT
DTSTART:19700329T020000
RRULE:FREQ=YEARLY;BYMONTH=3;BYDAY=-1SU
TZOFFSETFROM:+0100
TZOFFSETTO:+0200
TZNAME:CEST
END:DAYLIGHT
END:VTIMEZONE
BEGIN:VEVENT
UID:51352@o5o.nl
DTSTAMP:20260419T121343Z
DTSTART;TZID=Europe/Amsterdam:20260425T130000
DTEND;TZID=Europe/Amsterdam:20260425T150000
SUMMARY:Super Mario Playground
DESCRIPTION:Event\, Laatste kaarten
Tijd: 13:00 - 15:00
Kinderen t/m 15 jaa
 r
LOCATION:Forum Groningen\, Nieuwe Markt 1\, Groningen
URL:https://forum.nl/nl/agenda/super-mario-playground?date=25-04-2026
END:VEVENT
END:VCALENDAR
