BEGIN:VCALENDAR
VERSION:2.0
PRODID:-//o5o.nl//Events//NL
BEGIN:VTIMEZONE
TZID:Europe/Amsterdam
BEGIN:STANDARD
DTSTART:19701025T030000
RRULE:FREQ=YEARLY;BYMONTH=10;BYDAY=-1SU
TZOFFSETFROM:+0200
TZOFFSETTO:+0100
TZNAME:CET
END:STANDARD
BEGIN:DAYLIGHT
DTSTART:19700329T020000
RRULE:FREQ=YEARLY;BYMONTH=3;BYDAY=-1SU
TZOFFSETFROM:+0100
TZOFFSETTO:+0200
TZNAME:CEST
END:DAYLIGHT
END:VTIMEZONE
BEGIN:VEVENT
UID:51362@o5o.nl
DTSTAMP:20260419T121631Z
DTSTART;TZID=Europe/Amsterdam:20260426T104000
DTEND;TZID=Europe/Amsterdam:20260426T124000
SUMMARY:Bluey in de Bios: Spelen met je vriendjes (3+)
DESCRIPTION:Kinderfilm
Tijd: 10:40 - 11:51
Met pauze
LOCATION:Forum Groningen\, Nieuwe Markt 1\, Groningen
URL:https://forum.nl/nl/agenda/bluey-in-de-bios-spelen-met-je-vriendjes-3?date=26-04-2026
END:VEVENT
END:VCALENDAR
