BEGIN:VCALENDAR
VERSION:2.0
PRODID:-//o5o.nl//Events//NL
BEGIN:VTIMEZONE
TZID:Europe/Amsterdam
BEGIN:STANDARD
DTSTART:19701025T030000
RRULE:FREQ=YEARLY;BYMONTH=10;BYDAY=-1SU
TZOFFSETFROM:+0200
TZOFFSETTO:+0100
TZNAME:CET
END:STANDARD
BEGIN:DAYLIGHT
DTSTART:19700329T020000
RRULE:FREQ=YEARLY;BYMONTH=3;BYDAY=-1SU
TZOFFSETFROM:+0100
TZOFFSETTO:+0200
TZNAME:CEST
END:DAYLIGHT
END:VTIMEZONE
BEGIN:VEVENT
UID:51368@o5o.nl
DTSTAMP:20260419T121559Z
DTSTART;TZID=Europe/Amsterdam:20260426T200000
DTEND;TZID=Europe/Amsterdam:20260426T220000
SUMMARY:Cinematic Beauty: Days of Heaven
DESCRIPTION:Film\, Drama
Tijd: 20:00 - 21:50
With introduction\, English su
 btitles
LOCATION:Forum Groningen\, Nieuwe Markt 1\, Groningen
URL:https://forum.nl/nl/agenda/film/cinematic-beauty-days-of-heaven?date=26-04-2026
END:VEVENT
END:VCALENDAR
