BEGIN:VCALENDAR
VERSION:2.0
PRODID:-//o5o.nl//Events//NL
BEGIN:VTIMEZONE
TZID:Europe/Amsterdam
BEGIN:STANDARD
DTSTART:19701025T030000
RRULE:FREQ=YEARLY;BYMONTH=10;BYDAY=-1SU
TZOFFSETFROM:+0200
TZOFFSETTO:+0100
TZNAME:CET
END:STANDARD
BEGIN:DAYLIGHT
DTSTART:19700329T020000
RRULE:FREQ=YEARLY;BYMONTH=3;BYDAY=-1SU
TZOFFSETFROM:+0100
TZOFFSETTO:+0200
TZNAME:CEST
END:DAYLIGHT
END:VTIMEZONE
BEGIN:VEVENT
UID:51387@o5o.nl
DTSTAMP:20260422T100112Z
DTSTART;TZID=Europe/Amsterdam:20260420T200000
DTEND;TZID=Europe/Amsterdam:20260420T230000
SUMMARY:𝐀𝐏𝐑𝐈𝐋 𝟐𝟎 𓇢 𝐟𝐢𝐥𝐦 + 𝐰𝐨𝐫𝐤𝐬𝐡𝐨𝐩: 𝐁𝐢𝐫𝐝𝐢𝐧𝐠 𝐰/ 𝐀𝐧𝐧𝐞𝐥𝐞𝐢𝐧 𝐏𝐨𝐦𝐩𝐞 | 𝐬𝐭𝐮𝐝𝐢𝐮𝐦 𝐫𝐞𝐬𝐨𝐫𝐭
DESCRIPTION:maandag 20 april
                                    \, Groning
 en
LOCATION:Groningen\, Nieuwe Sint Jansstraat 35\, Groningen
URL:https://www.visitgroningen.nl/nl/doen/uitgaan/3169334435/april-20-film-workshop-birding-w-annelein-pompe-studium-resort
END:VEVENT
END:VCALENDAR
