BEGIN:VCALENDAR
VERSION:2.0
PRODID:-//o5o.nl//Events//NL
BEGIN:VTIMEZONE
TZID:Europe/Amsterdam
BEGIN:STANDARD
DTSTART:19701025T030000
RRULE:FREQ=YEARLY;BYMONTH=10;BYDAY=-1SU
TZOFFSETFROM:+0200
TZOFFSETTO:+0100
TZNAME:CET
END:STANDARD
BEGIN:DAYLIGHT
DTSTART:19700329T020000
RRULE:FREQ=YEARLY;BYMONTH=3;BYDAY=-1SU
TZOFFSETFROM:+0100
TZOFFSETTO:+0200
TZNAME:CEST
END:DAYLIGHT
END:VTIMEZONE
BEGIN:VEVENT
UID:51391@o5o.nl
DTSTAMP:20260422T100213Z
DTSTART;TZID=Europe/Amsterdam:20260420T200000
DTEND;TZID=Europe/Amsterdam:20260420T230000
SUMMARY:Open Mic
DESCRIPTION:maandag 20 april
                                    \, Groning
 en
LOCATION:Groningen\, Gedempte Zuiderdiep 58\, Groningen
URL:https://www.visitgroningen.nl/nl/doen/uitgaan/3004591755/open-mic-16
END:VEVENT
END:VCALENDAR
