BEGIN:VCALENDAR
VERSION:2.0
PRODID:-//o5o.nl//Events//NL
BEGIN:VTIMEZONE
TZID:Europe/Amsterdam
BEGIN:STANDARD
DTSTART:19701025T030000
RRULE:FREQ=YEARLY;BYMONTH=10;BYDAY=-1SU
TZOFFSETFROM:+0200
TZOFFSETTO:+0100
TZNAME:CET
END:STANDARD
BEGIN:DAYLIGHT
DTSTART:19700329T020000
RRULE:FREQ=YEARLY;BYMONTH=3;BYDAY=-1SU
TZOFFSETFROM:+0100
TZOFFSETTO:+0200
TZNAME:CEST
END:DAYLIGHT
END:VTIMEZONE
BEGIN:VEVENT
UID:51485@o5o.nl
DTSTAMP:20260422T100050Z
DTSTART;TZID=Europe/Amsterdam:20260422T200000
DTEND;TZID=Europe/Amsterdam:20260422T230000
SUMMARY:Voortgang en Tegenwind – van pottenkijker tot uithangbord
DESCRIPTION:woensdag 22 april
                                    \, Gronin
 gen
LOCATION:Groningen\, Broerstraat 5\, Groningen
URL:https://www.visitgroningen.nl/nl/doen/uitgaan/869210147/voortgang-en-tegenwind-van-pottenkijker-tot-uithangbord
END:VEVENT
END:VCALENDAR
