BEGIN:VCALENDAR
VERSION:2.0
PRODID:-//o5o.nl//Events//NL
BEGIN:VTIMEZONE
TZID:Europe/Amsterdam
BEGIN:STANDARD
DTSTART:19701025T030000
RRULE:FREQ=YEARLY;BYMONTH=10;BYDAY=-1SU
TZOFFSETFROM:+0200
TZOFFSETTO:+0100
TZNAME:CET
END:STANDARD
BEGIN:DAYLIGHT
DTSTART:19700329T020000
RRULE:FREQ=YEARLY;BYMONTH=3;BYDAY=-1SU
TZOFFSETFROM:+0100
TZOFFSETTO:+0200
TZNAME:CEST
END:DAYLIGHT
END:VTIMEZONE
BEGIN:VEVENT
UID:51490@o5o.nl
DTSTAMP:20260422T100858Z
DTSTART;TZID=Europe/Amsterdam:20260422T200000
DTEND;TZID=Europe/Amsterdam:20260422T230000
SUMMARY:Seniorenlezing 'Zo wil ik wonen' -Oude Pekela
DESCRIPTION:woensdag 22 april
                                    \, Oude P
 ekela
LOCATION:Groningen\, Sportlaan 4\, Oude Pekela
URL:https://www.visitgroningen.nl/nl/doen/uitgaan/1292932726/seniorenlezing-zo-wil-ik-wonen
END:VEVENT
END:VCALENDAR
