BEGIN:VCALENDAR
VERSION:2.0
PRODID:-//o5o.nl//Events//NL
BEGIN:VTIMEZONE
TZID:Europe/Amsterdam
BEGIN:STANDARD
DTSTART:19701025T030000
RRULE:FREQ=YEARLY;BYMONTH=10;BYDAY=-1SU
TZOFFSETFROM:+0200
TZOFFSETTO:+0100
TZNAME:CET
END:STANDARD
BEGIN:DAYLIGHT
DTSTART:19700329T020000
RRULE:FREQ=YEARLY;BYMONTH=3;BYDAY=-1SU
TZOFFSETFROM:+0100
TZOFFSETTO:+0200
TZNAME:CEST
END:DAYLIGHT
END:VTIMEZONE
BEGIN:VEVENT
UID:51499@o5o.nl
DTSTAMP:20260422T100055Z
DTSTART;TZID=Europe/Amsterdam:20260423T200000
DTEND;TZID=Europe/Amsterdam:20260604T230000
SUMMARY:Sketch and paint workshop Impreszo
DESCRIPTION:23 april\, 7 mei en nog 2 dagen
                               
      \, Zoutkamp
LOCATION:Groningen\, Reitdiepskade 20B\, Zoutkamp
URL:https://www.visitgroningen.nl/nl/doen/uitgaan/887903895/sketch-and-paint-workshop-impreszo
END:VEVENT
END:VCALENDAR
