BEGIN:VCALENDAR
VERSION:2.0
PRODID:-//o5o.nl//Events//NL
BEGIN:VTIMEZONE
TZID:Europe/Amsterdam
BEGIN:STANDARD
DTSTART:19701025T030000
RRULE:FREQ=YEARLY;BYMONTH=10;BYDAY=-1SU
TZOFFSETFROM:+0200
TZOFFSETTO:+0100
TZNAME:CET
END:STANDARD
BEGIN:DAYLIGHT
DTSTART:19700329T020000
RRULE:FREQ=YEARLY;BYMONTH=3;BYDAY=-1SU
TZOFFSETFROM:+0100
TZOFFSETTO:+0200
TZNAME:CEST
END:DAYLIGHT
END:VTIMEZONE
BEGIN:VEVENT
UID:52125@o5o.nl
DTSTAMP:20260422T100336Z
DTSTART;TZID=Europe/Amsterdam:20260425T150000
DTEND;TZID=Europe/Amsterdam:20260425T170000
SUMMARY:Museum Jam (kids breakdance battle)
DESCRIPTION:In samenwerking met breakdanceschool 84Studios wordt op zaterda
 g 25 april Museum Jam â€“ Where Culture comes alive georganiseerd op Coop H
 immelb(l)au.
Tijd: â€¢	Start workshop: 11.15 uur
â€¢	Start breakdance battl
 e: 12.30 uur
Entree: â€¢	workshop â‚¬ 5
â€¢	battle â‚¬ 5
â€¢	Combi ticket â
 ‚¬ 7\,50
LOCATION:Groninger Museum\, Museumeiland 1\, Groningen
URL:https://www.groningermuseum.nl/bezoek/activiteiten/museum-jam-kids-breakdance-battle
END:VEVENT
END:VCALENDAR
