BEGIN:VCALENDAR
VERSION:2.0
PRODID:-//o5o.nl//Events//NL
BEGIN:VTIMEZONE
TZID:Europe/Amsterdam
BEGIN:STANDARD
DTSTART:19701025T030000
RRULE:FREQ=YEARLY;BYMONTH=10;BYDAY=-1SU
TZOFFSETFROM:+0200
TZOFFSETTO:+0100
TZNAME:CET
END:STANDARD
BEGIN:DAYLIGHT
DTSTART:19700329T020000
RRULE:FREQ=YEARLY;BYMONTH=3;BYDAY=-1SU
TZOFFSETFROM:+0100
TZOFFSETTO:+0200
TZNAME:CEST
END:DAYLIGHT
END:VTIMEZONE
BEGIN:VEVENT
UID:52238@o5o.nl
DTSTAMP:20260421T102624Z
DTSTART;TZID=Europe/Amsterdam:20260422T200000
DTEND;TZID=Europe/Amsterdam:20260826T230000
SUMMARY:Pastorie Warffum
DESCRIPTION:22 april t/m 26 augustus
                                    \,
  Warffum
LOCATION:Groningen\, Pastorieweg 24\, Warffum
URL:https://www.visitgroningen.nl/nl/doen/uitgaan/1147621923/pastorie-warffum
END:VEVENT
END:VCALENDAR
