BEGIN:VCALENDAR
VERSION:2.0
PRODID:-//o5o.nl//Events//NL
BEGIN:VTIMEZONE
TZID:Europe/Amsterdam
BEGIN:STANDARD
DTSTART:19701025T030000
RRULE:FREQ=YEARLY;BYMONTH=10;BYDAY=-1SU
TZOFFSETFROM:+0200
TZOFFSETTO:+0100
TZNAME:CET
END:STANDARD
BEGIN:DAYLIGHT
DTSTART:19700329T020000
RRULE:FREQ=YEARLY;BYMONTH=3;BYDAY=-1SU
TZOFFSETFROM:+0100
TZOFFSETTO:+0200
TZNAME:CEST
END:DAYLIGHT
END:VTIMEZONE
BEGIN:VEVENT
UID:52242@o5o.nl
DTSTAMP:20260421T102955Z
DTSTART;TZID=Europe/Amsterdam:20260423T200000
DTEND;TZID=Europe/Amsterdam:20260423T230000
SUMMARY:Noord Nederlands Orkest Symfonisch
DESCRIPTION:donderdag 23 april
                                    \, Stads
 kanaal
LOCATION:Theater Geert Teis\, Geert Teisplein 2\, Stadskanaal
URL:https://www.visitgroningen.nl/nl/doen/uitgaan/756967758/noord-nederlands-orkest-symfonisch
END:VEVENT
END:VCALENDAR
