BEGIN:VCALENDAR
VERSION:2.0
PRODID:-//o5o.nl//Events//NL
BEGIN:VTIMEZONE
TZID:Europe/Amsterdam
BEGIN:STANDARD
DTSTART:19701025T030000
RRULE:FREQ=YEARLY;BYMONTH=10;BYDAY=-1SU
TZOFFSETFROM:+0200
TZOFFSETTO:+0100
TZNAME:CET
END:STANDARD
BEGIN:DAYLIGHT
DTSTART:19700329T020000
RRULE:FREQ=YEARLY;BYMONTH=3;BYDAY=-1SU
TZOFFSETFROM:+0100
TZOFFSETTO:+0200
TZNAME:CEST
END:DAYLIGHT
END:VTIMEZONE
BEGIN:VEVENT
UID:52246@o5o.nl
DTSTAMP:20260421T102659Z
DTSTART;TZID=Europe/Amsterdam:20260423T200000
DTEND;TZID=Europe/Amsterdam:20260423T230000
SUMMARY:Boban Benjamin Braspenning - BRUTO
DESCRIPTION:donderdag 23 april
                                    \, Groni
 ngen
LOCATION:SPOT/De Oosterpoort\, Trompsingel 27\, Groningen
URL:https://www.visitgroningen.nl/nl/doen/uitgaan/187578951/boban-braspenning-bruto
END:VEVENT
END:VCALENDAR
