BEGIN:VCALENDAR
VERSION:2.0
PRODID:-//o5o.nl//Events//NL
BEGIN:VTIMEZONE
TZID:Europe/Amsterdam
BEGIN:STANDARD
DTSTART:19701025T030000
RRULE:FREQ=YEARLY;BYMONTH=10;BYDAY=-1SU
TZOFFSETFROM:+0200
TZOFFSETTO:+0100
TZNAME:CET
END:STANDARD
BEGIN:DAYLIGHT
DTSTART:19700329T020000
RRULE:FREQ=YEARLY;BYMONTH=3;BYDAY=-1SU
TZOFFSETFROM:+0100
TZOFFSETTO:+0200
TZNAME:CEST
END:DAYLIGHT
END:VTIMEZONE
BEGIN:VEVENT
UID:53012@o5o.nl
DTSTAMP:20260422T104333Z
DTSTART;TZID=Europe/Amsterdam:20260424T200000
DTEND;TZID=Europe/Amsterdam:20260424T230000
SUMMARY:Een avond onder de sterren in Dark Sky Park Lauwersmeer
DESCRIPTION:vrijdag 24 april
                                    \, Lauwers
 oog
LOCATION:Activiteitencentrum Lauwersnest\, De Rug 1\, Lauwersoog
URL:https://www.visitgroningen.nl/nl/doen/uitgaan/2973023255/een-avond-onder-de-sterren-in-dark-sky-park-lauwersmeer-23
END:VEVENT
END:VCALENDAR
