BEGIN:VCALENDAR
VERSION:2.0
PRODID:-//o5o.nl//Events//NL
BEGIN:VTIMEZONE
TZID:Europe/Amsterdam
BEGIN:STANDARD
DTSTART:19701025T030000
RRULE:FREQ=YEARLY;BYMONTH=10;BYDAY=-1SU
TZOFFSETFROM:+0200
TZOFFSETTO:+0100
TZNAME:CET
END:STANDARD
BEGIN:DAYLIGHT
DTSTART:19700329T020000
RRULE:FREQ=YEARLY;BYMONTH=3;BYDAY=-1SU
TZOFFSETFROM:+0100
TZOFFSETTO:+0200
TZNAME:CEST
END:DAYLIGHT
END:VTIMEZONE
BEGIN:VEVENT
UID:53407@o5o.nl
DTSTAMP:20260422T104423Z
DTSTART;TZID=Europe/Amsterdam:20260508T200000
DTEND;TZID=Europe/Amsterdam:20260508T220000
SUMMARY:Local Band Merch Market
DESCRIPTION:T.H.O.P. HOSTS
Extra | Ticket: Gratis | doors: 19:30 - 21:30 | 
 start: 19:30
LOCATION:Vera\, Oosterstraat 44\, Groningen
URL:https://www.vera-groningen.nl/?post_type=events&p=151406&lang=en
END:VEVENT
END:VCALENDAR
