BEGIN:VCALENDAR
VERSION:2.0
PRODID:-//o5o.nl//Events//NL
BEGIN:VTIMEZONE
TZID:Europe/Amsterdam
BEGIN:STANDARD
DTSTART:19701025T030000
RRULE:FREQ=YEARLY;BYMONTH=10;BYDAY=-1SU
TZOFFSETFROM:+0200
TZOFFSETTO:+0100
TZNAME:CET
END:STANDARD
BEGIN:DAYLIGHT
DTSTART:19700329T020000
RRULE:FREQ=YEARLY;BYMONTH=3;BYDAY=-1SU
TZOFFSETFROM:+0100
TZOFFSETTO:+0200
TZNAME:CEST
END:DAYLIGHT
END:VTIMEZONE
BEGIN:VEVENT
UID:53778@o5o.nl
DTSTAMP:20260423T110339Z
DTSTART;TZID=Europe/Amsterdam:20260424T200000
DTEND;TZID=Europe/Amsterdam:20260424T230000
SUMMARY:Marcel van Roosmalen
DESCRIPTION:vrijdag 24 april
                                    \, Stadska
 naal
LOCATION:Theater Geert Teis\, Geert Teisplein 2\, Stadskanaal
URL:https://www.visitgroningen.nl/nl/doen/uitgaan/1511610840/marcel-van-roosmalen-1
END:VEVENT
END:VCALENDAR
