BEGIN:VCALENDAR
VERSION:2.0
PRODID:-//o5o.nl//Events//NL
BEGIN:VTIMEZONE
TZID:Europe/Amsterdam
BEGIN:STANDARD
DTSTART:19701025T030000
RRULE:FREQ=YEARLY;BYMONTH=10;BYDAY=-1SU
TZOFFSETFROM:+0200
TZOFFSETTO:+0100
TZNAME:CET
END:STANDARD
BEGIN:DAYLIGHT
DTSTART:19700329T020000
RRULE:FREQ=YEARLY;BYMONTH=3;BYDAY=-1SU
TZOFFSETFROM:+0100
TZOFFSETTO:+0200
TZNAME:CEST
END:DAYLIGHT
END:VTIMEZONE
BEGIN:VEVENT
UID:53784@o5o.nl
DTSTAMP:20260423T110721Z
DTSTART;TZID=Europe/Amsterdam:20260424T200000
DTEND;TZID=Europe/Amsterdam:20260424T230000
SUMMARY:Weird Youth (GRN) + Broeder Dieleman (NL) + In Good Spirit (GRN)
DESCRIPTION:vrijdag 24 april
                                    \, Groning
 en
LOCATION:Vera\, Oosterstraat 44\, Groningen
URL:https://www.visitgroningen.nl/nl/doen/uitgaan/1934844752/weird-youth-grn-broeder-dieleman-nl-in-good-spirit-grn
END:VEVENT
END:VCALENDAR
