BEGIN:VCALENDAR
VERSION:2.0
PRODID:-//o5o.nl//Events//NL
BEGIN:VTIMEZONE
TZID:Europe/Amsterdam
BEGIN:STANDARD
DTSTART:19701025T030000
RRULE:FREQ=YEARLY;BYMONTH=10;BYDAY=-1SU
TZOFFSETFROM:+0200
TZOFFSETTO:+0100
TZNAME:CET
END:STANDARD
BEGIN:DAYLIGHT
DTSTART:19700329T020000
RRULE:FREQ=YEARLY;BYMONTH=3;BYDAY=-1SU
TZOFFSETFROM:+0100
TZOFFSETTO:+0200
TZNAME:CEST
END:DAYLIGHT
END:VTIMEZONE
BEGIN:VEVENT
UID:55195@o5o.nl
DTSTAMP:20260424T113306Z
DTSTART;TZID=Europe/Amsterdam:20260424T100000
DTEND;TZID=Europe/Amsterdam:20260424T120000
SUMMARY:De Liefdeshapper
DESCRIPTION:Neem een hapje in elke zaal!
LOCATION:Groninger Museum\, Museumeiland 1\, Groningen
URL:https://www.groningermuseum.nl/bezoek/activiteiten/de-liefdeshapper
END:VEVENT
END:VCALENDAR
