BEGIN:VCALENDAR
VERSION:2.0
PRODID:-//o5o.nl//Events//NL
BEGIN:VTIMEZONE
TZID:Europe/Amsterdam
BEGIN:STANDARD
DTSTART:19701025T030000
RRULE:FREQ=YEARLY;BYMONTH=10;BYDAY=-1SU
TZOFFSETFROM:+0200
TZOFFSETTO:+0100
TZNAME:CET
END:STANDARD
BEGIN:DAYLIGHT
DTSTART:19700329T020000
RRULE:FREQ=YEARLY;BYMONTH=3;BYDAY=-1SU
TZOFFSETFROM:+0100
TZOFFSETTO:+0200
TZNAME:CEST
END:DAYLIGHT
END:VTIMEZONE
BEGIN:VEVENT
UID:55221@o5o.nl
DTSTAMP:20260425T113054Z
DTSTART;TZID=Europe/Amsterdam:20260425T200000
DTEND;TZID=Europe/Amsterdam:20260425T230000
SUMMARY:Donar Groningen -  Kangoeroes Mechelen
DESCRIPTION:zaterdag 25 april
                                    \, Gronin
 gen
LOCATION:Martiniplaza\, Leonard Springerlaan 2\, Groningen
URL:https://www.visitgroningen.nl/nl/doen/uitgaan/153960393/donar-groningen-kangoeroes-mechelen
END:VEVENT
END:VCALENDAR
