BEGIN:VCALENDAR
VERSION:2.0
PRODID:-//o5o.nl//Events//NL
BEGIN:VTIMEZONE
TZID:Europe/Amsterdam
BEGIN:STANDARD
DTSTART:19701025T030000
RRULE:FREQ=YEARLY;BYMONTH=10;BYDAY=-1SU
TZOFFSETFROM:+0200
TZOFFSETTO:+0100
TZNAME:CET
END:STANDARD
BEGIN:DAYLIGHT
DTSTART:19700329T020000
RRULE:FREQ=YEARLY;BYMONTH=3;BYDAY=-1SU
TZOFFSETFROM:+0100
TZOFFSETTO:+0200
TZNAME:CEST
END:DAYLIGHT
END:VTIMEZONE
BEGIN:VEVENT
UID:55233@o5o.nl
DTSTAMP:20260425T113717Z
DTSTART;TZID=Europe/Amsterdam:20260425T200000
DTEND;TZID=Europe/Amsterdam:20260425T230000
SUMMARY:Zat 25/4 va 15u werkpresentatie Lisa Smithson tijdens Silophonesession #20 met openingsact "the yay cha minas"
DESCRIPTION:zaterdag 25 april
                                    \, Gronin
 gen
LOCATION:Groningen\, Damsterdiep 299\, Groningen
URL:https://www.visitgroningen.nl/nl/doen/uitgaan/2208774702/zat-25-4-va-15u-werkpresentatie-lisa-smithson-tijdens-silophonesession-20-met-openingsact-the-yay-cha-minas
END:VEVENT
END:VCALENDAR
