BEGIN:VCALENDAR
VERSION:2.0
PRODID:-//o5o.nl//Events//NL
BEGIN:VTIMEZONE
TZID:Europe/Amsterdam
BEGIN:STANDARD
DTSTART:19701025T030000
RRULE:FREQ=YEARLY;BYMONTH=10;BYDAY=-1SU
TZOFFSETFROM:+0200
TZOFFSETTO:+0100
TZNAME:CET
END:STANDARD
BEGIN:DAYLIGHT
DTSTART:19700329T020000
RRULE:FREQ=YEARLY;BYMONTH=3;BYDAY=-1SU
TZOFFSETFROM:+0100
TZOFFSETTO:+0200
TZNAME:CEST
END:DAYLIGHT
END:VTIMEZONE
BEGIN:VEVENT
UID:55239@o5o.nl
DTSTAMP:20260425T112141Z
DTSTART;TZID=Europe/Amsterdam:20260425T200000
DTEND;TZID=Europe/Amsterdam:20260614T230000
SUMMARY:Duo expositie Lieve van Loon - Wim Biewenga
DESCRIPTION:t/m 14 juni
                                    \, Appingedam
LOCATION:Groningen\, Blankenstein 2\, Appingedam
URL:https://www.visitgroningen.nl/nl/doen/uitgaan/66520643/duo-expositie-lieve-van-loon-wim-biewenga
END:VEVENT
END:VCALENDAR
