BEGIN:VCALENDAR
VERSION:2.0
PRODID:-//o5o.nl//Events//NL
BEGIN:VTIMEZONE
TZID:Europe/Amsterdam
BEGIN:STANDARD
DTSTART:19701025T030000
RRULE:FREQ=YEARLY;BYMONTH=10;BYDAY=-1SU
TZOFFSETFROM:+0200
TZOFFSETTO:+0100
TZNAME:CET
END:STANDARD
BEGIN:DAYLIGHT
DTSTART:19700329T020000
RRULE:FREQ=YEARLY;BYMONTH=3;BYDAY=-1SU
TZOFFSETFROM:+0100
TZOFFSETTO:+0200
TZNAME:CEST
END:DAYLIGHT
END:VTIMEZONE
BEGIN:VEVENT
UID:55293@o5o.nl
DTSTAMP:20260425T113541Z
DTSTART;TZID=Europe/Amsterdam:20260425T200000
DTEND;TZID=Europe/Amsterdam:20260505T230000
SUMMARY:Pekela maakt zich op voor feestelijke én herdenkingsrijke periode rond Koningsdag en Bevrijding
DESCRIPTION:25 april\, 26 april en nog 4 dagen
                            
         \, Oude Pekela
LOCATION:Groningen\, Raadhuislaan 8\, Oude Pekela
URL:https://www.visitgroningen.nl/nl/doen/uitgaan/2898697505/pekela-maakt-zich-op-voor-feestelijke-en-herdenkingsrijke-periode-rond-koningsdag-en-bevrijding
END:VEVENT
END:VCALENDAR
