BEGIN:VCALENDAR
VERSION:2.0
PRODID:-//o5o.nl//Events//NL
BEGIN:VTIMEZONE
TZID:Europe/Amsterdam
BEGIN:STANDARD
DTSTART:19701025T030000
RRULE:FREQ=YEARLY;BYMONTH=10;BYDAY=-1SU
TZOFFSETFROM:+0200
TZOFFSETTO:+0100
TZNAME:CET
END:STANDARD
BEGIN:DAYLIGHT
DTSTART:19700329T020000
RRULE:FREQ=YEARLY;BYMONTH=3;BYDAY=-1SU
TZOFFSETFROM:+0100
TZOFFSETTO:+0200
TZNAME:CEST
END:DAYLIGHT
END:VTIMEZONE
BEGIN:VEVENT
UID:55927@o5o.nl
DTSTAMP:20260425T112445Z
DTSTART;TZID=Europe/Amsterdam:20260430T121500
DTEND;TZID=Europe/Amsterdam:20260430T141500
SUMMARY:Naked Lunch met Sherida Spitse
DESCRIPTION:Talk\, Literair
Tijd: 12:15 - 13:15
LOCATION:Forum Groningen\, Nieuwe Markt 1\, Groningen
URL:https://forum.nl/nl/agenda/naked-lunch-met-sherida-spitse?date=30-04-2026
END:VEVENT
END:VCALENDAR
