BEGIN:VCALENDAR
VERSION:2.0
PRODID:-//o5o.nl//Events//NL
BEGIN:VTIMEZONE
TZID:Europe/Amsterdam
BEGIN:STANDARD
DTSTART:19701025T030000
RRULE:FREQ=YEARLY;BYMONTH=10;BYDAY=-1SU
TZOFFSETFROM:+0200
TZOFFSETTO:+0100
TZNAME:CET
END:STANDARD
BEGIN:DAYLIGHT
DTSTART:19700329T020000
RRULE:FREQ=YEARLY;BYMONTH=3;BYDAY=-1SU
TZOFFSETFROM:+0100
TZOFFSETTO:+0200
TZNAME:CEST
END:DAYLIGHT
END:VTIMEZONE
BEGIN:VEVENT
UID:55956@o5o.nl
DTSTAMP:20260425T112610Z
DTSTART;TZID=Europe/Amsterdam:20270424T100000
DTEND;TZID=Europe/Amsterdam:20270424T120000
SUMMARY:Ontdek jezelf in het museum
DESCRIPTION:Ontdek jezelf in het museum met onze workshops en Slow Looking 
 activiteit
Tijd: 10 t/m 12 uur
LOCATION:Groninger Museum\, Museumeiland 1\, Groningen
URL:https://www.groningermuseum.nl/bezoek/activiteiten/workshop-ontdek-jezelf-in-het-museum-door-talent
END:VEVENT
END:VCALENDAR
